BEGIN:VCALENDAR
VERSION:2.0
PRODID:-//Website des WSC Lippstadt e.V. - ECPv6.15.11//NONSGML v1.0//EN
CALSCALE:GREGORIAN
METHOD:PUBLISH
X-ORIGINAL-URL:https://wsc-lippstadt.de
X-WR-CALDESC:Veranstaltungen für Website des WSC Lippstadt e.V.
REFRESH-INTERVAL;VALUE=DURATION:PT1H
X-Robots-Tag:noindex
X-PUBLISHED-TTL:PT1H
BEGIN:VTIMEZONE
TZID:Europe/Berlin
BEGIN:DAYLIGHT
TZOFFSETFROM:+0100
TZOFFSETTO:+0200
TZNAME:CEST
DTSTART:20240331T010000
END:DAYLIGHT
BEGIN:STANDARD
TZOFFSETFROM:+0200
TZOFFSETTO:+0100
TZNAME:CET
DTSTART:20241027T010000
END:STANDARD
BEGIN:DAYLIGHT
TZOFFSETFROM:+0100
TZOFFSETTO:+0200
TZNAME:CEST
DTSTART:20250330T010000
END:DAYLIGHT
BEGIN:STANDARD
TZOFFSETFROM:+0200
TZOFFSETTO:+0100
TZNAME:CET
DTSTART:20251026T010000
END:STANDARD
BEGIN:DAYLIGHT
TZOFFSETFROM:+0100
TZOFFSETTO:+0200
TZNAME:CEST
DTSTART:20260329T010000
END:DAYLIGHT
BEGIN:STANDARD
TZOFFSETFROM:+0200
TZOFFSETTO:+0100
TZNAME:CET
DTSTART:20261025T010000
END:STANDARD
END:VTIMEZONE
BEGIN:VEVENT
DTSTART;VALUE=DATE:20250418
DTEND;VALUE=DATE:20250428
DTSTAMP:20260421T214536
CREATED:20250318T150214Z
LAST-MODIFIED:20250318T150214Z
UID:7480-1744934400-1745798399@wsc-lippstadt.de
SUMMARY:SUP-Abteilungsfahrt Slowenien
DESCRIPTION:Jugendfahrt
URL:https://wsc-lippstadt.de/event/sup-abteilungsfahrt-slowenien/
END:VEVENT
BEGIN:VEVENT
DTSTART;VALUE=DATE:20250426
DTEND;VALUE=DATE:20250427
DTSTAMP:20260421T214536
CREATED:20250318T150349Z
LAST-MODIFIED:20250318T151017Z
UID:7482-1745625600-1745711999@wsc-lippstadt.de
SUMMARY:80. Gebrauchtbootmarkt Sport Schröer
DESCRIPTION:
URL:https://wsc-lippstadt.de/event/80-gebrauchtbootmarkt-sport-schroeer/
LOCATION:Sport Schröer GmbH\, Massener Str. 137\, Unna\, 59423\, Germany
END:VEVENT
BEGIN:VEVENT
DTSTART;VALUE=DATE:20250427
DTEND;VALUE=DATE:20250428
DTSTAMP:20260421T214536
CREATED:20250411T075326Z
LAST-MODIFIED:20250411T075326Z
UID:7631-1745712000-1745798399@wsc-lippstadt.de
SUMMARY:Kanurally NRW Weser
DESCRIPTION:
URL:https://wsc-lippstadt.de/event/kanurally-nrw-weser/
END:VEVENT
BEGIN:VEVENT
DTSTART;VALUE=DATE:20250429
DTEND;VALUE=DATE:20250505
DTSTAMP:20260421T214536
CREATED:20250411T093509Z
LAST-MODIFIED:20250411T093509Z
UID:7637-1745884800-1746403199@wsc-lippstadt.de
SUMMARY:Wildalpen Salza
DESCRIPTION:
URL:https://wsc-lippstadt.de/event/wildalpen-salza/
END:VEVENT
BEGIN:VEVENT
DTSTART;TZID=Europe/Berlin:20250429T150000
DTEND;TZID=Europe/Berlin:20250429T170000
DTSTAMP:20260421T214536
CREATED:20250411T075504Z
LAST-MODIFIED:20250411T075556Z
UID:7633-1745938800-1745946000@wsc-lippstadt.de
SUMMARY:Anfängertraining
DESCRIPTION:11 UE von 29.04.-08.07.25\n\n\n\nAnsprechpartnerin: Heike Löwenberg
URL:https://wsc-lippstadt.de/event/anfaengertraining/
END:VEVENT
BEGIN:VEVENT
DTSTART;TZID=Europe/Berlin:20250429T150000
DTEND;TZID=Europe/Berlin:20250708T170000
DTSTAMP:20260421T214536
CREATED:20250411T075700Z
LAST-MODIFIED:20250411T075700Z
UID:7635-1745938800-1751994000@wsc-lippstadt.de
SUMMARY:Fortgeschrittenentraining
DESCRIPTION:11 UE von 29.04.-08.07.25\n\n\n\nAnsprechpartern: Maximilian Böning
URL:https://wsc-lippstadt.de/event/fortgeschrittenentraining/
END:VEVENT
END:VCALENDAR